{"text_format":"1","workbook":"xlsx","n_sheets":2,"sheets":["Control","BuscaMinas"],"not_rendered":{"charts":0,"images":2,"macros":1,"external_links":0,"defined_names":0,"comments":0,"pivot_tables":0},"unopened":[],"bounds":{"document_bytes":16777216,"sheet_cells":100000,"rows_first":2000,"rows_last":500,"rows_between":2000,"halvings":0,"cell_chars":16384,"cell_head_chars":4096},"cells_cut":0,"cells_raw":0,"read":"whole","date_system":"1900"}

{"sheet":"Control","index":0,"n_rows":26,"n_cols":39,"rows_kept":26,"cut":false,"hidden":true,"merged":[]}
[null,null,null,null,null,null,null,null,null,null,null,null,null,null,"Matriz mapa minas "]
[null,"Matriz mapa minas original",null,null,null,null,null,null,null,null,null,null,null,0,0,0,0,0,0,0,0,0,0,0,0,null,null,"Matriz minas detectadas",null,null,null,null,null,null,null,null,null,null,"Matriz minas erroneas"]
[null,{"$f":"IF(RANDBETWEEN(1,100)<(BuscaMinas!$M$4/2)*10,1,0)","v":0},{"$f":"IF(RANDBETWEEN(1,100)<(BuscaMinas!$M$4/2)*10,1,0)","v":0},{"$f":"IF(RANDBETWEEN(1,100)<(BuscaMinas!$M$4/2)*10,1,0)","v":0},{"$f":"IF(RANDBETWEEN(1,100)<(BuscaMinas!$M$4/2)*10,1,0)","v":1},{"$f":"IF(RANDBETWEEN(1,100)<(BuscaMinas!$M$4/2)*10,1,0)","v":0},{"$f":"IF(RANDBETWEEN(1,100)<(BuscaMinas!$M$4/2)*10,1,0)","v":0},{"$f":"IF(RANDBETWEEN(1,100)<(BuscaMinas!$M$4/2)*10,1,0)","v":0},{"$f":"IF(RANDBETWEEN(1,100)<(BuscaMinas!$M$4/2)*10,1,0)","v":0},{"$f":"IF(RANDBETWEEN(1,100)<(BuscaMinas!$M$4/2)*10,1,0)","v":0},{"$f":"IF(RANDBETWEEN(1,100)<(BuscaMinas!$M$4/2)*10,1,0)","v":0},null,null,0,0,1,0,0,0,1,1,0,0,0,0]
[null,{"$f":"IF(RANDBETWEEN(1,100)<(BuscaMinas!$M$4/2)*10,1,0)","v":0},{"$f":"IF(RANDBETWEEN(1,100)<(BuscaMinas!$M$4/2)*10,1,0)","v":1},{"$f":"IF(RANDBETWEEN(1,100)<(BuscaMinas!$M$4/2)*10,1,0)","v":0},{"$f":"IF(RANDBETWEEN(1,100)<(BuscaMinas!$M$4/2)*10,1,0)","v":0},{"$f":"IF(RANDBETWEEN(1,100)<(BuscaMinas!$M$4/2)*10,1,0)","v":0},{"$f":"IF(RANDBETWEEN(1,100)<(BuscaMinas!$M$4/2)*10,1,0)","v":0},{"$f":"IF(RANDBETWEEN(1,100)<(BuscaMinas!$M$4/2)*10,1,0)","v":0},{"$f":"IF(RANDBETWEEN(1,100)<(BuscaMinas!$M$4/2)*10,1,0)","v":0},{"$f":"IF(RANDBETWEEN(1,100)<(BuscaMinas!$M$4/2)*10,1,0)","v":0},{"$f":"IF(RANDBETWEEN(1,100)<(BuscaMinas!$M$4/2)*10,1,0)","v":1},null,null,0,0,0,0,0,0,1,0,1,0,0,0]
[null,{"$f":"IF(RANDBETWEEN(1,100)<(BuscaMinas!$M$4/2)*10,1,0)","v":0},{"$f":"IF(RANDBETWEEN(1,100)<(BuscaMinas!$M$4/2)*10,1,0)","v":0},{"$f":"IF(RANDBETWEEN(1,100)<(BuscaMinas!$M$4/2)*10,1,0)","v":0},{"$f":"IF(RANDBETWEEN(1,100)<(BuscaMinas!$M$4/2)*10,1,0)","v":0},{"$f":"IF(RANDBETWEEN(1,100)<(BuscaMinas!$M$4/2)*10,1,0)","v":0},{"$f":"IF(RANDBETWEEN(1,100)<(BuscaMinas!$M$4/2)*10,1,0)","v":0},{"$f":"IF(RANDBETWEEN(1,100)<(BuscaMinas!$M$4/2)*10,1,0)","v":0},{"$f":"IF(RANDBETWEEN(1,100)<(BuscaMinas!$M$4/2)*10,1,0)","v":0},{"$f":"IF(RANDBETWEEN(1,100)<(BuscaMinas!$M$4/2)*10,1,0)","v":0},{"$f":"IF(RANDBETWEEN(1,100)<(BuscaMinas!$M$4/2)*10,1,0)","v":0},null,null,0,0,1,0,0,0,0,0,0,1,1,0]
[null,{"$f":"IF(RANDBETWEEN(1,100)<(BuscaMinas!$M$4/2)*10,1,0)","v":0},{"$f":"IF(RANDBETWEEN(1,100)<(BuscaMinas!$M$4/2)*10,1,0)","v":0},{"$f":"IF(RANDBETWEEN(1,100)<(BuscaMinas!$M$4/2)*10,1,0)","v":0},{"$f":"IF(RANDBETWEEN(1,100)<(BuscaMinas!$M$4/2)*10,1,0)","v":0},{"$f":"IF(RANDBETWEEN(1,100)<(BuscaMinas!$M$4/2)*10,1,0)","v":0},{"$f":"IF(RANDBETWEEN(1,100)<(BuscaMinas!$M$4/2)*10,1,0)","v":0},{"$f":"IF(RANDBETWEEN(1,100)<(BuscaMinas!$M$4/2)*10,1,0)","v":0},{"$f":"IF(RANDBETWEEN(1,100)<(BuscaMinas!$M$4/2)*10,1,0)","v":0},{"$f":"IF(RANDBETWEEN(1,100)<(BuscaMinas!$M$4/2)*10,1,0)","v":0},{"$f":"IF(RANDBETWEEN(1,100)<(BuscaMinas!$M$4/2)*10,1,0)","v":0},null,null,0,1,0,0,0,0,1,1,0,0,0,0]
[null,{"$f":"IF(RANDBETWEEN(1,100)<(BuscaMinas!$M$4/2)*10,1,0)","v":0},{"$f":"IF(RANDBETWEEN(1,100)<(BuscaMinas!$M$4/2)*10,1,0)","v":1},{"$f":"IF(RANDBETWEEN(1,100)<(BuscaMinas!$M$4/2)*10,1,0)","v":0},{"$f":"IF(RANDBETWEEN(1,100)<(BuscaMinas!$M$4/2)*10,1,0)","v":1},{"$f":"IF(RANDBETWEEN(1,100)<(BuscaMinas!$M$4/2)*10,1,0)","v":0},{"$f":"IF(RANDBETWEEN(1,100)<(BuscaMinas!$M$4/2)*10,1,0)","v":1},{"$f":"IF(RANDBETWEEN(1,100)<(BuscaMinas!$M$4/2)*10,1,0)","v":0},{"$f":"IF(RANDBETWEEN(1,100)<(BuscaMinas!$M$4/2)*10,1,0)","v":0},{"$f":"IF(RANDBETWEEN(1,100)<(BuscaMinas!$M$4/2)*10,1,0)","v":0},{"$f":"IF(RANDBETWEEN(1,100)<(BuscaMinas!$M$4/2)*10,1,0)","v":0},null,null,0,1,0,0,0,0,0,1,0,1,1,0]
[null,{"$f":"IF(RANDBETWEEN(1,100)<(BuscaMinas!$M$4/2)*10,1,0)","v":0},{"$f":"IF(RANDBETWEEN(1,100)<(BuscaMinas!$M$4/2)*10,1,0)","v":0},{"$f":"IF(RANDBETWEEN(1,100)<(BuscaMinas!$M$4/2)*10,1,0)","v":0},{"$f":"IF(RANDBETWEEN(1,100)<(BuscaMinas!$M$4/2)*10,1,0)","v":0},{"$f":"IF(RANDBETWEEN(1,100)<(BuscaMinas!$M$4/2)*10,1,0)","v":0},{"$f":"IF(RANDBETWEEN(1,100)<(BuscaMinas!$M$4/2)*10,1,0)","v":0},{"$f":"IF(RANDBETWEEN(1,100)<(BuscaMinas!$M$4/2)*10,1,0)","v":0},{"$f":"IF(RANDBETWEEN(1,100)<(BuscaMinas!$M$4/2)*10,1,0)","v":0},{"$f":"IF(RANDBETWEEN(1,100)<(BuscaMinas!$M$4/2)*10,1,0)","v":0},{"$f":"IF(RANDBETWEEN(1,100)<(BuscaMinas!$M$4/2)*10,1,0)","v":0},null,null,0,1,0,0,0,0,1,0,0,0,1,0]
[null,{"$f":"IF(RANDBETWEEN(1,100)<(BuscaMinas!$M$4/2)*10,1,0)","v":1},{"$f":"IF(RANDBETWEEN(1,100)<(BuscaMinas!$M$4/2)*10,1,0)","v":0},{"$f":"IF(RANDBETWEEN(1,100)<(BuscaMinas!$M$4/2)*10,1,0)","v":0},{"$f":"IF(RANDBETWEEN(1,100)<(BuscaMinas!$M$4/2)*10,1,0)","v":0},{"$f":"IF(RANDBETWEEN(1,100)<(BuscaMinas!$M$4/2)*10,1,0)","v":1},{"$f":"IF(RANDBETWEEN(1,100)<(BuscaMinas!$M$4/2)*10,1,0)","v":0},{"$f":"IF(RANDBETWEEN(1,100)<(BuscaMinas!$M$4/2)*10,1,0)","v":0},{"$f":"IF(RANDBETWEEN(1,100)<(BuscaMinas!$M$4/2)*10,1,0)","v":0},{"$f":"IF(RANDBETWEEN(1,100)<(BuscaMinas!$M$4/2)*10,1,0)","v":0},{"$f":"IF(RANDBETWEEN(1,100)<(BuscaMinas!$M$4/2)*10,1,0)","v":1},null,null,0,0,0,1,0,0,1,0,0,0,0,0]
[null,{"$f":"IF(RANDBETWEEN(1,100)<(BuscaMinas!$M$4/2)*10,1,0)","v":1},{"$f":"IF(RANDBETWEEN(1,100)<(BuscaMinas!$M$4/2)*10,1,0)","v":0},{"$f":"IF(RANDBETWEEN(1,100)<(BuscaMinas!$M$4/2)*10,1,0)","v":0},{"$f":"IF(RANDBETWEEN(1,100)<(BuscaMinas!$M$4/2)*10,1,0)","v":0},{"$f":"IF(RANDBETWEEN(1,100)<(BuscaMinas!$M$4/2)*10,1,0)","v":0},{"$f":"IF(RANDBETWEEN(1,100)<(BuscaMinas!$M$4/2)*10,1,0)","v":0},{"$f":"IF(RANDBETWEEN(1,100)<(BuscaMinas!$M$4/2)*10,1,0)","v":0},{"$f":"IF(RANDBETWEEN(1,100)<(BuscaMinas!$M$4/2)*10,1,0)","v":0},{"$f":"IF(RANDBETWEEN(1,100)<(BuscaMinas!$M$4/2)*10,1,0)","v":0},{"$f":"IF(RANDBETWEEN(1,100)<(BuscaMinas!$M$4/2)*10,1,0)","v":0},null,null,0,1,1,0,0,0,0,0,0,1,0,0]
[null,{"$f":"IF(RANDBETWEEN(1,100)<(BuscaMinas!$M$4/2)*10,1,0)","v":0},{"$f":"IF(RANDBETWEEN(1,100)<(BuscaMinas!$M$4/2)*10,1,0)","v":0},{"$f":"IF(RANDBETWEEN(1,100)<(BuscaMinas!$M$4/2)*10,1,0)","v":1},{"$f":"IF(RANDBETWEEN(1,100)<(BuscaMinas!$M$4/2)*10,1,0)","v":0},{"$f":"IF(RANDBETWEEN(1,100)<(BuscaMinas!$M$4/2)*10,1,0)","v":0},{"$f":"IF(RANDBETWEEN(1,100)<(BuscaMinas!$M$4/2)*10,1,0)","v":0},{"$f":"IF(RANDBETWEEN(1,100)<(BuscaMinas!$M$4/2)*10,1,0)","v":1},{"$f":"IF(RANDBETWEEN(1,100)<(BuscaMinas!$M$4/2)*10,1,0)","v":0},{"$f":"IF(RANDBETWEEN(1,100)<(BuscaMinas!$M$4/2)*10,1,0)","v":0},{"$f":"IF(RANDBETWEEN(1,100)<(BuscaMinas!$M$4/2)*10,1,0)","v":0},null,null,0,0,0,1,0,0,0,0,0,0,0,0]
[null,{"$f":"IF(RANDBETWEEN(1,100)<(BuscaMinas!$M$4/2)*10,1,0)","v":1},{"$f":"IF(RANDBETWEEN(1,100)<(BuscaMinas!$M$4/2)*10,1,0)","v":0},{"$f":"IF(RANDBETWEEN(1,100)<(BuscaMinas!$M$4/2)*10,1,0)","v":1},{"$f":"IF(RANDBETWEEN(1,100)<(BuscaMinas!$M$4/2)*10,1,0)","v":0},{"$f":"IF(RANDBETWEEN(1,100)<(BuscaMinas!$M$4/2)*10,1,0)","v":0},{"$f":"IF(RANDBETWEEN(1,100)<(BuscaMinas!$M$4/2)*10,1,0)","v":0},{"$f":"IF(RANDBETWEEN(1,100)<(BuscaMinas!$M$4/2)*10,1,0)","v":0},{"$f":"IF(RANDBETWEEN(1,100)<(BuscaMinas!$M$4/2)*10,1,0)","v":0},{"$f":"IF(RANDBETWEEN(1,100)<(BuscaMinas!$M$4/2)*10,1,0)","v":0},{"$f":"IF(RANDBETWEEN(1,100)<(BuscaMinas!$M$4/2)*10,1,0)","v":0},null,null,0,1,0,0,0,0,0,0,0,0,0,0]
[null,null,null,null,null,null,null,null,null,null,null,null,null,0,0,0,0,0,0,0,0,0,0,0,0]
[]
[null,null,"Matriz minas proximas"]
[null,null,1,2,3,4,5,6,7,8,9,10,null,null,"Matriz celdas usados",null,null,null,null,null,null,null,null,null,null,null,null,"Matriz finalización"]
[null,1,{"$f":"SUM(OFFSET($M$1,$B17,C$16,3,3))","v":1},{"$f":"SUM(OFFSET($M$1,$B17,D$16,3,3))","v":1},1,0,2,3,4,2,1,0,null,null,null,null,null,null,null,null,null,null,null,null,null,null,null,{"$f":"IF(O17=1,1,IF(O3=1,1,0))","v":0},{"$f":"IF(P17=1,1,IF(P3=1,1,0))","v":1},{"$f":"IF(Q17=1,1,IF(Q3=1,1,0))","v":0},{"$f":"IF(R17=1,1,IF(R3=1,1,0))","v":0},{"$f":"IF(S17=1,1,IF(S3=1,1,0))","v":0},{"$f":"IF(T17=1,1,IF(T3=1,1,0))","v":1},{"$f":"IF(U17=1,1,IF(U3=1,1,0))","v":1},{"$f":"IF(V17=1,1,IF(V3=1,1,0))","v":0},{"$f":"IF(W17=1,1,IF(W3=1,1,0))","v":0},{"$f":"IF(X17=1,1,IF(X3=1,1,0))","v":0}]
[null,2,{"$f":"SUM(OFFSET($M$1,$B18,C$16,3,3))","v":2},2,2,0,2,3,4,3,3,2,null,null,null,null,null,null,null,null,null,null,null,null,null,null,null,0,0,0,0,0,1,0,1,0,0]
[null,3,2,2,1,0,2,3,4,3,3,2,null,null,null,null,null,null,null,null,null,null,null,null,null,null,null,0,1,0,0,0,0,0,0,1,1]
[null,4,3,3,1,0,1,3,3,4,4,4,null,null,null,null,null,null,null,null,null,null,null,null,null,null,null,1,0,0,0,0,1,1,0,0,0]
[null,5,3,3,0,0,2,4,4,3,3,3,null,null,null,null,null,null,null,null,null,null,null,null,null,null,null,1,0,0,0,0,0,1,0,1,1]
[null,6,2,3,1,1,2,3,3,2,3,3,null,null,null,null,null,null,null,null,null,null,null,null,null,null,null,1,0,0,0,0,1,0,0,0,1]
[null,7,3,4,2,1,2,2,2,1,2,2,null,null,null,null,null,null,null,null,null,null,null,null,null,null,null,0,0,1,0,0,1,0,0,0,0]
[null,8,2,4,3,2,1,1,1,1,1,1,null,null,null,null,null,null,null,null,null,null,null,null,null,null,null,1,1,0,0,0,0,0,0,1,0]
[null,9,3,4,2,1,0,0,0,1,1,1,null,null,null,null,null,null,null,null,null,null,null,null,null,null,null,0,0,1,0,0,0,0,0,0,0]
[null,10,{"$f":"SUM(OFFSET($M$1,$B26,C$16,3,3))","v":1},2,1,1,0,0,0,0,0,0,null,null,null,null,null,null,null,null,null,null,null,null,null,null,null,1,0,0,0,0,0,0,0,0,0]

{"sheet":"BuscaMinas","index":1,"n_rows":10,"n_cols":15,"rows_kept":10,"cut":false,"hidden":false,"merged":[[7,11,9,12]]}
[{"$f":"IF(Control!O17=1,IF(Control!O3=1,\"X\",Control!C17),\"\")","v":""},{"$f":"IF(Control!P17=1,IF(Control!P3=1,\"X\",Control!D17),\"\")","v":""},{"$f":"IF(Control!Q17=1,IF(Control!Q3=1,\"X\",Control!E17),\"\")","v":""},{"$f":"IF(Control!R17=1,IF(Control!R3=1,\"X\",Control!F17),\"\")","v":""},{"$f":"IF(Control!S17=1,IF(Control!S3=1,\"X\",Control!G17),\"\")","v":""},{"$f":"IF(Control!T17=1,IF(Control!T3=1,\"X\",Control!H17),\"\")","v":""},{"$f":"IF(Control!U17=1,IF(Control!U3=1,\"X\",Control!I17),\"\")","v":""},{"$f":"IF(Control!V17=1,IF(Control!V3=1,\"X\",Control!J17),\"\")","v":""},{"$f":"IF(Control!W17=1,IF(Control!W3=1,\"X\",Control!K17),\"\")","v":""},{"$f":"IF(Control!X17=1,IF(Control!X3=1,\"X\",Control!L17),\"\")","v":""}]
[{"$f":"IF(Control!O18=1,IF(Control!O4=1,\"X\",Control!C18),\"\")","v":""},{"$f":"IF(Control!P18=1,IF(Control!P4=1,\"X\",Control!D18),\"\")","v":""},{"$f":"IF(Control!Q18=1,IF(Control!Q4=1,\"X\",Control!E18),\"\")","v":""},{"$f":"IF(Control!R18=1,IF(Control!R4=1,\"X\",Control!F18),\"\")","v":""},{"$f":"IF(Control!S18=1,IF(Control!S4=1,\"X\",Control!G18),\"\")","v":""},{"$f":"IF(Control!T18=1,IF(Control!T4=1,\"X\",Control!H18),\"\")","v":""},{"$f":"IF(Control!U18=1,IF(Control!U4=1,\"X\",Control!I18),\"\")","v":""},{"$f":"IF(Control!V18=1,IF(Control!V4=1,\"X\",Control!J18),\"\")","v":""},{"$f":"IF(Control!W18=1,IF(Control!W4=1,\"X\",Control!K18),\"\")","v":""},{"$f":"IF(Control!X18=1,IF(Control!X4=1,\"X\",Control!L18),\"\")","v":""}]
[{"$f":"IF(Control!O19=1,IF(Control!O5=1,\"X\",Control!C19),\"\")","v":""},{"$f":"IF(Control!P19=1,IF(Control!P5=1,\"X\",Control!D19),\"\")","v":""},{"$f":"IF(Control!Q19=1,IF(Control!Q5=1,\"X\",Control!E19),\"\")","v":""},{"$f":"IF(Control!R19=1,IF(Control!R5=1,\"X\",Control!F19),\"\")","v":""},{"$f":"IF(Control!S19=1,IF(Control!S5=1,\"X\",Control!G19),\"\")","v":""},{"$f":"IF(Control!T19=1,IF(Control!T5=1,\"X\",Control!H19),\"\")","v":""},{"$f":"IF(Control!U19=1,IF(Control!U5=1,\"X\",Control!I19),\"\")","v":""},{"$f":"IF(Control!V19=1,IF(Control!V5=1,\"X\",Control!J19),\"\")","v":""},{"$f":"IF(Control!W19=1,IF(Control!W5=1,\"X\",Control!K19),\"\")","v":""},{"$f":"IF(Control!X19=1,IF(Control!X5=1,\"X\",Control!L19),\"\")","v":""}]
[{"$f":"IF(Control!O20=1,IF(Control!O6=1,\"X\",Control!C20),\"\")","v":""},{"$f":"IF(Control!P20=1,IF(Control!P6=1,\"X\",Control!D20),\"\")","v":""},{"$f":"IF(Control!Q20=1,IF(Control!Q6=1,\"X\",Control!E20),\"\")","v":""},{"$f":"IF(Control!R20=1,IF(Control!R6=1,\"X\",Control!F20),\"\")","v":""},{"$f":"IF(Control!S20=1,IF(Control!S6=1,\"X\",Control!G20),\"\")","v":""},{"$f":"IF(Control!T20=1,IF(Control!T6=1,\"X\",Control!H20),\"\")","v":""},{"$f":"IF(Control!U20=1,IF(Control!U6=1,\"X\",Control!I20),\"\")","v":""},{"$f":"IF(Control!V20=1,IF(Control!V6=1,\"X\",Control!J20),\"\")","v":""},{"$f":"IF(Control!W20=1,IF(Control!W6=1,\"X\",Control!K20),\"\")","v":""},{"$f":"IF(Control!X20=1,IF(Control!X6=1,\"X\",Control!L20),\"\")","v":""},null,"Seleccione la dificultad (1 a 10):",4]
[{"$f":"IF(Control!O21=1,IF(Control!O7=1,\"X\",Control!C21),\"\")","v":""},{"$f":"IF(Control!P21=1,IF(Control!P7=1,\"X\",Control!D21),\"\")","v":""},{"$f":"IF(Control!Q21=1,IF(Control!Q7=1,\"X\",Control!E21),\"\")","v":""},{"$f":"IF(Control!R21=1,IF(Control!R7=1,\"X\",Control!F21),\"\")","v":""},{"$f":"IF(Control!S21=1,IF(Control!S7=1,\"X\",Control!G21),\"\")","v":""},{"$f":"IF(Control!T21=1,IF(Control!T7=1,\"X\",Control!H21),\"\")","v":""},{"$f":"IF(Control!U21=1,IF(Control!U7=1,\"X\",Control!I21),\"\")","v":""},{"$f":"IF(Control!V21=1,IF(Control!V7=1,\"X\",Control!J21),\"\")","v":""},{"$f":"IF(Control!W21=1,IF(Control!W7=1,\"X\",Control!K21),\"\")","v":""},{"$f":"IF(Control!X21=1,IF(Control!X7=1,\"X\",Control!L21),\"\")","v":""},null,{"$f":"SUM(Control!AB3:AK12)&\" de \"&SUM(Control!O3:X12)&IF(SUM(Control!AB3:AK12)=1,\" mina detectada\",\" minas detectadas\")","v":"0 de 25 minas detectadas"},null,null," "]
[{"$f":"IF(Control!O22=1,IF(Control!O8=1,\"X\",Control!C22),\"\")","v":""},{"$f":"IF(Control!P22=1,IF(Control!P8=1,\"X\",Control!D22),\"\")","v":""},{"$f":"IF(Control!Q22=1,IF(Control!Q8=1,\"X\",Control!E22),\"\")","v":""},{"$f":"IF(Control!R22=1,IF(Control!R8=1,\"X\",Control!F22),\"\")","v":""},{"$f":"IF(Control!S22=1,IF(Control!S8=1,\"X\",Control!G22),\"\")","v":""},{"$f":"IF(Control!T22=1,IF(Control!T8=1,\"X\",Control!H22),\"\")","v":""},{"$f":"IF(Control!U22=1,IF(Control!U8=1,\"X\",Control!I22),\"\")","v":""},{"$f":"IF(Control!V22=1,IF(Control!V8=1,\"X\",Control!J22),\"\")","v":""},{"$f":"IF(Control!W22=1,IF(Control!W8=1,\"X\",Control!K22),\"\")","v":""},{"$f":"IF(Control!X22=1,IF(Control!X8=1,\"X\",Control!L22),\"\")","v":""},null,{"$f":"IF(SUM(Control!AB17:AK26)=100,\"Completado con \"&SUM(Control!AM3:AV12)&\" errores\",\"\")","v":""}]
[{"$f":"IF(Control!O23=1,IF(Control!O9=1,\"X\",Control!C23),\"\")","v":""},{"$f":"IF(Control!P23=1,IF(Control!P9=1,\"X\",Control!D23),\"\")","v":""},{"$f":"IF(Control!Q23=1,IF(Control!Q9=1,\"X\",Control!E23),\"\")","v":""},{"$f":"IF(Control!R23=1,IF(Control!R9=1,\"X\",Control!F23),\"\")","v":""},{"$f":"IF(Control!S23=1,IF(Control!S9=1,\"X\",Control!G23),\"\")","v":""},{"$f":"IF(Control!T23=1,IF(Control!T9=1,\"X\",Control!H23),\"\")","v":""},{"$f":"IF(Control!U23=1,IF(Control!U9=1,\"X\",Control!I23),\"\")","v":""},{"$f":"IF(Control!V23=1,IF(Control!V9=1,\"X\",Control!J23),\"\")","v":""},{"$f":"IF(Control!W23=1,IF(Control!W9=1,\"X\",Control!K23),\"\")","v":""},{"$f":"IF(Control!X23=1,IF(Control!X9=1,\"X\",Control!L23),\"\")","v":""},null,"Objetivo: Descubre donde están las minas."]
[{"$f":"IF(Control!O24=1,IF(Control!O10=1,\"X\",Control!C24),\"\")","v":""},{"$f":"IF(Control!P24=1,IF(Control!P10=1,\"X\",Control!D24),\"\")","v":""},{"$f":"IF(Control!Q24=1,IF(Control!Q10=1,\"X\",Control!E24),\"\")","v":""},{"$f":"IF(Control!R24=1,IF(Control!R10=1,\"X\",Control!F24),\"\")","v":""},{"$f":"IF(Control!S24=1,IF(Control!S10=1,\"X\",Control!G24),\"\")","v":""},{"$f":"IF(Control!T24=1,IF(Control!T10=1,\"X\",Control!H24),\"\")","v":""},{"$f":"IF(Control!U24=1,IF(Control!U10=1,\"X\",Control!I24),\"\")","v":""},{"$f":"IF(Control!V24=1,IF(Control!V10=1,\"X\",Control!J24),\"\")","v":""},{"$f":"IF(Control!W24=1,IF(Control!W10=1,\"X\",Control!K24),\"\")","v":""},{"$f":"IF(Control!X24=1,IF(Control!X10=1,\"X\",Control!L24),\"\")","v":""},null,"Modo de juego: Haz click sobre una cela para desbloquearla. Si hay una mina se marcará en rojo y el juego habrá terminado. Si crees que en una celda hay una mina márcala con el botón derecho del ratón. Si hubiera una mina esta quedaría desactivada."]
[{"$f":"IF(Control!O25=1,IF(Control!O11=1,\"X\",Control!C25),\"\")","v":""},{"$f":"IF(Control!P25=1,IF(Control!P11=1,\"X\",Control!D25),\"\")","v":""},{"$f":"IF(Control!Q25=1,IF(Control!Q11=1,\"X\",Control!E25),\"\")","v":""},{"$f":"IF(Control!R25=1,IF(Control!R11=1,\"X\",Control!F25),\"\")","v":""},{"$f":"IF(Control!S25=1,IF(Control!S11=1,\"X\",Control!G25),\"\")","v":""},{"$f":"IF(Control!T25=1,IF(Control!T11=1,\"X\",Control!H25),\"\")","v":""},{"$f":"IF(Control!U25=1,IF(Control!U11=1,\"X\",Control!I25),\"\")","v":""},{"$f":"IF(Control!V25=1,IF(Control!V11=1,\"X\",Control!J25),\"\")","v":""},{"$f":"IF(Control!W25=1,IF(Control!W11=1,\"X\",Control!K25),\"\")","v":""},{"$f":"IF(Control!X25=1,IF(Control!X11=1,\"X\",Control!L25),\"\")","v":""}]
[{"$f":"IF(Control!O26=1,IF(Control!O12=1,\"X\",Control!C26),\"\")","v":""},{"$f":"IF(Control!P26=1,IF(Control!P12=1,\"X\",Control!D26),\"\")","v":""},{"$f":"IF(Control!Q26=1,IF(Control!Q12=1,\"X\",Control!E26),\"\")","v":""},{"$f":"IF(Control!R26=1,IF(Control!R12=1,\"X\",Control!F26),\"\")","v":""},{"$f":"IF(Control!S26=1,IF(Control!S12=1,\"X\",Control!G26),\"\")","v":""},{"$f":"IF(Control!T26=1,IF(Control!T12=1,\"X\",Control!H26),\"\")","v":""},{"$f":"IF(Control!U26=1,IF(Control!U12=1,\"X\",Control!I26),\"\")","v":""},{"$f":"IF(Control!V26=1,IF(Control!V12=1,\"X\",Control!J26),\"\")","v":""},{"$f":"IF(Control!W26=1,IF(Control!W12=1,\"X\",Control!K26),\"\")","v":""},{"$f":"IF(Control!X26=1,IF(Control!X12=1,\"X\",Control!L26),\"\")","v":""}]